BEGIN:VCALENDAR
VERSION:2.0
PRODID:-//lausitz-brandenburg.de - ECPv6.15.15//NONSGML v1.0//EN
CALSCALE:GREGORIAN
METHOD:PUBLISH
X-WR-CALNAME:lausitz-brandenburg.de
X-ORIGINAL-URL:https://lausitz-brandenburg.de
X-WR-CALDESC:Veranstaltungen für lausitz-brandenburg.de
REFRESH-INTERVAL;VALUE=DURATION:PT1H
X-Robots-Tag:noindex
X-PUBLISHED-TTL:PT1H
BEGIN:VTIMEZONE
TZID:Europe/Berlin
BEGIN:DAYLIGHT
TZOFFSETFROM:+0100
TZOFFSETTO:+0200
TZNAME:CEST
DTSTART:20180325T010000
END:DAYLIGHT
BEGIN:STANDARD
TZOFFSETFROM:+0200
TZOFFSETTO:+0100
TZNAME:CET
DTSTART:20181028T010000
END:STANDARD
BEGIN:DAYLIGHT
TZOFFSETFROM:+0100
TZOFFSETTO:+0200
TZNAME:CEST
DTSTART:20190331T010000
END:DAYLIGHT
BEGIN:STANDARD
TZOFFSETFROM:+0200
TZOFFSETTO:+0100
TZNAME:CET
DTSTART:20191027T010000
END:STANDARD
BEGIN:DAYLIGHT
TZOFFSETFROM:+0100
TZOFFSETTO:+0200
TZNAME:CEST
DTSTART:20200329T010000
END:DAYLIGHT
BEGIN:STANDARD
TZOFFSETFROM:+0200
TZOFFSETTO:+0100
TZNAME:CET
DTSTART:20201025T010000
END:STANDARD
END:VTIMEZONE
BEGIN:VEVENT
DTSTART;VALUE=DATE:20190925
DTEND;VALUE=DATE:20190928
DTSTAMP:20260422T022819
CREATED:20190823T132816Z
LAST-MODIFIED:20190823T132816Z
UID:440-1569369600-1569628799@lausitz-brandenburg.de
SUMMARY:25th Meeting of European Head of State Mining Authorities on the topic of Community and environmental protection in active and abandoned mines and quarries
DESCRIPTION:
URL:https://lausitz-brandenburg.de/event/25th-meeting-of-european-head-of-state-mining-authorities-on-the-topic-of-community-and-environmental-protection-in-active-and-abandoned-mines-and-quarries/
CATEGORIES:Konferenz
END:VEVENT
END:VCALENDAR