BEGIN:VCALENDAR
VERSION:2.0
PRODID:-//lausitz-brandenburg.de - ECPv6.15.15//NONSGML v1.0//EN
CALSCALE:GREGORIAN
METHOD:PUBLISH
X-WR-CALNAME:lausitz-brandenburg.de
X-ORIGINAL-URL:https://lausitz-brandenburg.de
X-WR-CALDESC:Veranstaltungen für lausitz-brandenburg.de
REFRESH-INTERVAL;VALUE=DURATION:PT1H
X-Robots-Tag:noindex
X-PUBLISHED-TTL:PT1H
BEGIN:VTIMEZONE
TZID:Europe/Berlin
BEGIN:DAYLIGHT
TZOFFSETFROM:+0100
TZOFFSETTO:+0200
TZNAME:CEST
DTSTART:20180325T010000
END:DAYLIGHT
BEGIN:STANDARD
TZOFFSETFROM:+0200
TZOFFSETTO:+0100
TZNAME:CET
DTSTART:20181028T010000
END:STANDARD
BEGIN:DAYLIGHT
TZOFFSETFROM:+0100
TZOFFSETTO:+0200
TZNAME:CEST
DTSTART:20190331T010000
END:DAYLIGHT
BEGIN:STANDARD
TZOFFSETFROM:+0200
TZOFFSETTO:+0100
TZNAME:CET
DTSTART:20191027T010000
END:STANDARD
BEGIN:DAYLIGHT
TZOFFSETFROM:+0100
TZOFFSETTO:+0200
TZNAME:CEST
DTSTART:20200329T010000
END:DAYLIGHT
BEGIN:STANDARD
TZOFFSETFROM:+0200
TZOFFSETTO:+0100
TZNAME:CET
DTSTART:20201025T010000
END:STANDARD
END:VTIMEZONE
BEGIN:VEVENT
DTSTART;TZID=Europe/Berlin:20191021T080000
DTEND;TZID=Europe/Berlin:20191021T170000
DTSTAMP:20260422T034820
CREATED:20191021T103149Z
LAST-MODIFIED:20191021T103149Z
UID:511-1571644800-1571677200@lausitz-brandenburg.de
SUMMARY:14. Health Circle
DESCRIPTION:14. Health Circle „Der (digitale) Arzt 2025 in Brandenburg Möglichkeiten. Erwartungen\, Notwendigkeiten“\nDigitalisierung und technologischer Fortschritt sind in aller Munde. In allen Lebensbereichen. Auch – oder gerade – im Bereich der Gesundheit. Welche Moglichkeiten ergeben sich und in welchem Gesamtrahmen bewegen wir uns? Gibt es ein Spannungsfeld zwischen dem Bedarf nach „sprechender Medizin“ einerseits und der zunehmenden Nutzung technologischer Moglichkeiten\, wie dem Einsatz von Assistenzsystemen andererseits? Welche Verbesserungen und Veranderungen bringen sie mit sich? Ist es möglicherweise fahrlassig\, verfügbare Systeme NICHT anzuwenden? Was bedeuten die sich ändernden Rahmenbedingungen für die Ausbildung? Welche Anforderungen ergeben sich? Wie sind die Erwartungen an das Medizinstudium im digitalen Zeitalter? Und wie können sie umgesetzt werden? \nOrt: Kassenärztliche Vereinigung Brandenburg\, Konferenzräume Brandenburg 1 und 2\, Pappelallee 5\, 14469 Potsdam \n  \nWeitere Informationen\nDetailprogramm und Anmeldemöglichkeit
URL:https://lausitz-brandenburg.de/event/14-health-circle/
LOCATION:Kassenärztliche Vereinigung Brandenburg\, Pappelallee 5\, Potsdam\, Deutschland
CATEGORIES:Informationsveranstaltung,Konferenz
END:VEVENT
END:VCALENDAR