BEGIN:VCALENDAR
VERSION:2.0
PRODID:-//lausitz-brandenburg.de - ECPv6.15.15//NONSGML v1.0//EN
CALSCALE:GREGORIAN
METHOD:PUBLISH
X-WR-CALNAME:lausitz-brandenburg.de
X-ORIGINAL-URL:https://lausitz-brandenburg.de
X-WR-CALDESC:Veranstaltungen für lausitz-brandenburg.de
REFRESH-INTERVAL;VALUE=DURATION:PT1H
X-Robots-Tag:noindex
X-PUBLISHED-TTL:PT1H
BEGIN:VTIMEZONE
TZID:Europe/Berlin
BEGIN:DAYLIGHT
TZOFFSETFROM:+0100
TZOFFSETTO:+0200
TZNAME:CEST
DTSTART:20180325T010000
END:DAYLIGHT
BEGIN:STANDARD
TZOFFSETFROM:+0200
TZOFFSETTO:+0100
TZNAME:CET
DTSTART:20181028T010000
END:STANDARD
BEGIN:DAYLIGHT
TZOFFSETFROM:+0100
TZOFFSETTO:+0200
TZNAME:CEST
DTSTART:20190331T010000
END:DAYLIGHT
BEGIN:STANDARD
TZOFFSETFROM:+0200
TZOFFSETTO:+0100
TZNAME:CET
DTSTART:20191027T010000
END:STANDARD
BEGIN:DAYLIGHT
TZOFFSETFROM:+0100
TZOFFSETTO:+0200
TZNAME:CEST
DTSTART:20200329T010000
END:DAYLIGHT
BEGIN:STANDARD
TZOFFSETFROM:+0200
TZOFFSETTO:+0100
TZNAME:CET
DTSTART:20201025T010000
END:STANDARD
END:VTIMEZONE
BEGIN:VEVENT
DTSTART;TZID=Europe/Berlin:20191022T093000
DTEND;TZID=Europe/Berlin:20191023T150000
DTSTAMP:20260422T034228
CREATED:20191021T102654Z
LAST-MODIFIED:20191021T102702Z
UID:505-1571736600-1571842800@lausitz-brandenburg.de
SUMMARY:51. Kraftwerkstechnisches Kolloquium
DESCRIPTION:Seit nunmehr 51 Jahren richtet die Technische Universität Dresden das Kraftwerkstechnische Kolloquium aus. Es hat sich zu einer wissenschaftlich-technischen Konferenz mit jährlich etwa 900 Teilnehmern mit starkem Anteil aus der Industrie – zunehmend auch international – entwickelt. \nOrt: Internationales Congress Center Dresden (Ostra-Ufer 2\, 01067 Dresden) \n  \nWeitere Informationen\nProgrammübersicht zum 51. Kraftwerkstechnischen Kolloquium
URL:https://lausitz-brandenburg.de/event/51-kraftwerkstechnisches-kolloquium/
LOCATION:Internationales Congress Center Dresden\, Ostra-Ufer 2\, Dresden\, Deutschland
CATEGORIES:Konferenz
END:VEVENT
BEGIN:VEVENT
DTSTART;TZID=Europe/Berlin:20191023T130000
DTEND;TZID=Europe/Berlin:20191023T170000
DTSTAMP:20260422T034228
CREATED:20191021T102916Z
LAST-MODIFIED:20191021T102916Z
UID:509-1571835600-1571850000@lausitz-brandenburg.de
SUMMARY:4. BTU-Transfertrag
DESCRIPTION:Unter dem Motto Ideen sind Chancen wird den BTU-Neuberufenen eine Bühne geboten\, um ihre Fachkompetenz\, Forschungsinteressen und Kooperationsangebote in den Themenfeldern Geistes- und Sozialwissenschaften sowie Natur- und Ingenieurwissenschaften zu präsentieren. Eine begleitende Ausstellung und die Vorstellung von Geschäftsideen aus der Wissenschaft runden den Transfertag ab. \nOrt: Zentralcampus Cottbus\, Zentrales Hörsaalgebäude (ZHG)\, Foyer\, Konrad-Wachsmann-Allee 3\, Cottbus \n  \nWeitere Informationen\nProgrammablauf und Anmeldemöglichkeit
URL:https://lausitz-brandenburg.de/event/4-btu-transfertrag/
LOCATION:Zentralcampus Cottbus\, Konrad-Wachsmann-Allee 17\, Cottbus\, 03046\, Deutschland
CATEGORIES:Informationsveranstaltung
END:VEVENT
END:VCALENDAR