BEGIN:VCALENDAR
VERSION:2.0
PRODID:-//lausitz-brandenburg.de - ECPv6.15.20//NONSGML v1.0//EN
CALSCALE:GREGORIAN
METHOD:PUBLISH
X-WR-CALNAME:lausitz-brandenburg.de
X-ORIGINAL-URL:https://lausitz-brandenburg.de
X-WR-CALDESC:Veranstaltungen für lausitz-brandenburg.de
REFRESH-INTERVAL;VALUE=DURATION:PT1H
X-Robots-Tag:noindex
X-PUBLISHED-TTL:PT1H
BEGIN:VTIMEZONE
TZID:Europe/Berlin
BEGIN:DAYLIGHT
TZOFFSETFROM:+0100
TZOFFSETTO:+0200
TZNAME:CEST
DTSTART:20180325T010000
END:DAYLIGHT
BEGIN:STANDARD
TZOFFSETFROM:+0200
TZOFFSETTO:+0100
TZNAME:CET
DTSTART:20181028T010000
END:STANDARD
BEGIN:DAYLIGHT
TZOFFSETFROM:+0100
TZOFFSETTO:+0200
TZNAME:CEST
DTSTART:20190331T010000
END:DAYLIGHT
BEGIN:STANDARD
TZOFFSETFROM:+0200
TZOFFSETTO:+0100
TZNAME:CET
DTSTART:20191027T010000
END:STANDARD
BEGIN:DAYLIGHT
TZOFFSETFROM:+0100
TZOFFSETTO:+0200
TZNAME:CEST
DTSTART:20200329T010000
END:DAYLIGHT
BEGIN:STANDARD
TZOFFSETFROM:+0200
TZOFFSETTO:+0100
TZNAME:CET
DTSTART:20201025T010000
END:STANDARD
END:VTIMEZONE
BEGIN:VEVENT
DTSTART;VALUE=DATE:20191125
DTEND;VALUE=DATE:20191127
DTSTAMP:20260424T140835
CREATED:20191021T104407Z
LAST-MODIFIED:20191021T104430Z
UID:519-1574640000-1574812799@lausitz-brandenburg.de
SUMMARY:Annual political dialogue (Politische Jahrestagung der EU-Kohleplattform)
DESCRIPTION:The second edition of the annual political dialogue of the Platform for coal regions in transition will take place on 25-26 November in Görlitz\, Germany\, and will be organised by the European Commission in close cooperation with the two German host regions of Brandenburg and Saxony. \nOn the first day\, high-level speakers will reflect on the progress achieved in the past year and look at the future of the initiative\, in a new European context with an ever-increasing focus on ‘just transition’.  Discussions will focus on the respective role of the EU and regions in supporting and implementing a ‘just transition’ and on the specific issues of attracting investments to coal regions and ensuring cross-border cooperation. \nOn the second day\, site visits will be organised for participants to get a view of concrete transition projects in the Lausitz. \nBy invitation only \nOrt: Wichernhaus\, Johannes-Wüsten-Straße 23 A\, Görlitz \n  \nWeitere Informationen\nAgenda
URL:https://lausitz-brandenburg.de/event/annual-political-dialogue-politische-jahrestagung-der-eu-kohleplattform/
LOCATION:Wichernhaus\, Johannes-Wüsten-Straße 23 A\, Görlitz\, Deutschland
CATEGORIES:Konferenz
END:VEVENT
END:VCALENDAR