BEGIN:VCALENDAR
VERSION:2.0
PRODID:-//lausitz-brandenburg.de - ECPv6.15.20//NONSGML v1.0//EN
CALSCALE:GREGORIAN
METHOD:PUBLISH
X-WR-CALNAME:lausitz-brandenburg.de
X-ORIGINAL-URL:https://lausitz-brandenburg.de
X-WR-CALDESC:Veranstaltungen für lausitz-brandenburg.de
REFRESH-INTERVAL;VALUE=DURATION:PT1H
X-Robots-Tag:noindex
X-PUBLISHED-TTL:PT1H
BEGIN:VTIMEZONE
TZID:Europe/Berlin
BEGIN:DAYLIGHT
TZOFFSETFROM:+0100
TZOFFSETTO:+0200
TZNAME:CEST
DTSTART:20190331T010000
END:DAYLIGHT
BEGIN:STANDARD
TZOFFSETFROM:+0200
TZOFFSETTO:+0100
TZNAME:CET
DTSTART:20191027T010000
END:STANDARD
BEGIN:DAYLIGHT
TZOFFSETFROM:+0100
TZOFFSETTO:+0200
TZNAME:CEST
DTSTART:20200329T010000
END:DAYLIGHT
BEGIN:STANDARD
TZOFFSETFROM:+0200
TZOFFSETTO:+0100
TZNAME:CET
DTSTART:20201025T010000
END:STANDARD
BEGIN:DAYLIGHT
TZOFFSETFROM:+0100
TZOFFSETTO:+0200
TZNAME:CEST
DTSTART:20210328T010000
END:DAYLIGHT
BEGIN:STANDARD
TZOFFSETFROM:+0200
TZOFFSETTO:+0100
TZNAME:CET
DTSTART:20211031T010000
END:STANDARD
END:VTIMEZONE
BEGIN:VEVENT
DTSTART;TZID=Europe/Berlin:20200110T140000
DTEND;TZID=Europe/Berlin:20200110T140000
DTSTAMP:20260424T154438
CREATED:20200108T125136Z
LAST-MODIFIED:20200108T125136Z
UID:581-1578664800-1578664800@lausitz-brandenburg.de
SUMMARY:Aufsichtsratssitzung der Wirtschaftsregion Lausitz
DESCRIPTION:Termin des Lausitzbeauftragten Dr. Klaus Freytag\n10.01.2020\, 14.00 Uhr\nOrt: Stadthaus Cottbus
URL:https://lausitz-brandenburg.de/event/aufsichtsratssitzung-der-wirtschaftsregion-lausitz/
LOCATION:Stadthaus Cottbus\, Erich-Kästner-Platz 1\, Cottbus\, Brandenburg\, 03046\, Deutschland
CATEGORIES:Sonstiges
END:VEVENT
END:VCALENDAR