BEGIN:VCALENDAR
VERSION:2.0
PRODID:-//lausitz-brandenburg.de - ECPv6.15.20//NONSGML v1.0//EN
CALSCALE:GREGORIAN
METHOD:PUBLISH
X-WR-CALNAME:lausitz-brandenburg.de
X-ORIGINAL-URL:https://lausitz-brandenburg.de
X-WR-CALDESC:Veranstaltungen für lausitz-brandenburg.de
REFRESH-INTERVAL;VALUE=DURATION:PT1H
X-Robots-Tag:noindex
X-PUBLISHED-TTL:PT1H
BEGIN:VTIMEZONE
TZID:Europe/Berlin
BEGIN:DAYLIGHT
TZOFFSETFROM:+0100
TZOFFSETTO:+0200
TZNAME:CEST
DTSTART:20190331T010000
END:DAYLIGHT
BEGIN:STANDARD
TZOFFSETFROM:+0200
TZOFFSETTO:+0100
TZNAME:CET
DTSTART:20191027T010000
END:STANDARD
BEGIN:DAYLIGHT
TZOFFSETFROM:+0100
TZOFFSETTO:+0200
TZNAME:CEST
DTSTART:20200329T010000
END:DAYLIGHT
BEGIN:STANDARD
TZOFFSETFROM:+0200
TZOFFSETTO:+0100
TZNAME:CET
DTSTART:20201025T010000
END:STANDARD
BEGIN:DAYLIGHT
TZOFFSETFROM:+0100
TZOFFSETTO:+0200
TZNAME:CEST
DTSTART:20210328T010000
END:DAYLIGHT
BEGIN:STANDARD
TZOFFSETFROM:+0200
TZOFFSETTO:+0100
TZNAME:CET
DTSTART:20211031T010000
END:STANDARD
END:VTIMEZONE
BEGIN:VEVENT
DTSTART;TZID=Europe/Berlin:20200130T131500
DTEND;TZID=Europe/Berlin:20200130T131500
DTSTAMP:20260424T154340
CREATED:20200108T131839Z
LAST-MODIFIED:20200108T131839Z
UID:601-1580390100-1580390100@lausitz-brandenburg.de
SUMMARY:Akademievorträge 2020 des SeeCampus Niederlausitz zum Thema "Strukturentwicklung Lausitz"
DESCRIPTION:Termin des Lausitzbeauftragten Dr. Klaus Freytag\n30.01.2020\, 13.15 Uhr\nAkademievorträge 2020 des SeeCampus Niederlausitz zum Thema „Strukturentwicklung Lausitz“\nOrt: SeeCampus Niederlausitz\, Schwarzheide
URL:https://lausitz-brandenburg.de/event/akademievortraege-2020-des-seecampus-niederlausitz-zum-thema-strukturentwicklung-lausitz/
LOCATION:SeeCampus Niederlausitz\, Lauchhammerstraße 33\, Schwarzheide\, 01987
CATEGORIES:Informationsveranstaltung
END:VEVENT
END:VCALENDAR