BEGIN:VCALENDAR
VERSION:2.0
PRODID:-//lausitz-brandenburg.de - ECPv6.15.20//NONSGML v1.0//EN
CALSCALE:GREGORIAN
METHOD:PUBLISH
X-ORIGINAL-URL:https://lausitz-brandenburg.de
X-WR-CALDESC:Veranstaltungen für lausitz-brandenburg.de
REFRESH-INTERVAL;VALUE=DURATION:PT1H
X-Robots-Tag:noindex
X-PUBLISHED-TTL:PT1H
BEGIN:VTIMEZONE
TZID:Europe/Berlin
BEGIN:DAYLIGHT
TZOFFSETFROM:+0100
TZOFFSETTO:+0200
TZNAME:CEST
DTSTART:20190331T010000
END:DAYLIGHT
BEGIN:STANDARD
TZOFFSETFROM:+0200
TZOFFSETTO:+0100
TZNAME:CET
DTSTART:20191027T010000
END:STANDARD
BEGIN:DAYLIGHT
TZOFFSETFROM:+0100
TZOFFSETTO:+0200
TZNAME:CEST
DTSTART:20200329T010000
END:DAYLIGHT
BEGIN:STANDARD
TZOFFSETFROM:+0200
TZOFFSETTO:+0100
TZNAME:CET
DTSTART:20201025T010000
END:STANDARD
BEGIN:DAYLIGHT
TZOFFSETFROM:+0100
TZOFFSETTO:+0200
TZNAME:CEST
DTSTART:20210328T010000
END:DAYLIGHT
BEGIN:STANDARD
TZOFFSETFROM:+0200
TZOFFSETTO:+0100
TZNAME:CET
DTSTART:20211031T010000
END:STANDARD
END:VTIMEZONE
BEGIN:VEVENT
DTSTART;TZID=Europe/Berlin:20200108T080000
DTEND;TZID=Europe/Berlin:20200108T170000
DTSTAMP:20260424T142907
CREATED:20200108T131513Z
LAST-MODIFIED:20200108T131513Z
UID:595-1578470400-1578502800@lausitz-brandenburg.de
SUMMARY:Neujahrsempfang UVB
DESCRIPTION:Termin des Lausitzbeauftragten Dr. Klaus Freytag\n23.01.2020\, 18.00 Uhr  Neujahrsempfang UVB\nOrt: Haus der Wirtschaft\, Inselstraße 24\, Cottbus
URL:https://lausitz-brandenburg.de/event/neujahrsempfang-uvb/
LOCATION:Haus der Wirtschaft\, Inselstraße 24\, Cottbus
CATEGORIES:Empfang
END:VEVENT
BEGIN:VEVENT
DTSTART;TZID=Europe/Berlin:20200108T083000
DTEND;TZID=Europe/Berlin:20200108T124806
DTSTAMP:20260424T142907
CREATED:20200108T124805Z
LAST-MODIFIED:20200108T124805Z
UID:574-1578472200-1578487686@lausitz-brandenburg.de
SUMMARY:9. Wirtschaftsfrühstück
DESCRIPTION:Termin des Lausitzbeauftragten Dr. Klaus Freytag\n08.01.2020\, 8.30 Uhr\nOrt: Restaurant Alt-Sandow
URL:https://lausitz-brandenburg.de/event/9-wirtschaftsfruehstueck/
LOCATION:Alt-Sandow\, Alt-Sandow\, Brandenburg
CATEGORIES:Gespräch
END:VEVENT
BEGIN:VEVENT
DTSTART;TZID=Europe/Berlin:20200108T180000
DTEND;TZID=Europe/Berlin:20200108T180000
DTSTAMP:20260424T142907
CREATED:20200108T125012Z
LAST-MODIFIED:20200108T125022Z
UID:577-1578506400-1578506400@lausitz-brandenburg.de
SUMMARY:Neujahrsempfang Stadt Cottbus
DESCRIPTION:Termin des Lausitzbeauftragten Dr. Klaus Freytag\n08.01.2020\, 18.00 Uhr\nOrt: Stadthalle Cottbus
URL:https://lausitz-brandenburg.de/event/577/
LOCATION:Stadthalle Cottbus\, Cottbus
CATEGORIES:Empfang
END:VEVENT
BEGIN:VEVENT
DTSTART;TZID=Europe/Berlin:20200110T140000
DTEND;TZID=Europe/Berlin:20200110T140000
DTSTAMP:20260424T142907
CREATED:20200108T125136Z
LAST-MODIFIED:20200108T125136Z
UID:581-1578664800-1578664800@lausitz-brandenburg.de
SUMMARY:Aufsichtsratssitzung der Wirtschaftsregion Lausitz
DESCRIPTION:Termin des Lausitzbeauftragten Dr. Klaus Freytag\n10.01.2020\, 14.00 Uhr\nOrt: Stadthaus Cottbus
URL:https://lausitz-brandenburg.de/event/aufsichtsratssitzung-der-wirtschaftsregion-lausitz/
LOCATION:Stadthaus Cottbus\, Erich-Kästner-Platz 1\, Cottbus\, Brandenburg\, 03046\, Deutschland
CATEGORIES:Sonstiges
END:VEVENT
BEGIN:VEVENT
DTSTART;TZID=Europe/Berlin:20200113T180000
DTEND;TZID=Europe/Berlin:20200113T180000
DTSTAMP:20260424T142907
CREATED:20200108T125308Z
LAST-MODIFIED:20200108T125329Z
UID:583-1578938400-1578938400@lausitz-brandenburg.de
SUMMARY:Rolls-Royce Power Systems Neujahrsempfang
DESCRIPTION:Termin des Lausitzbeauftragten Dr. Klaus Freytag\n13.01.2020\, 18.00 Uhr\nOrt: Deutsche Parlamentarische Gesellschaft\, Friedrich-Ebert-Platz 2\, 10117 Berlin
URL:https://lausitz-brandenburg.de/event/rolls-royce-power-systems-neujahrsempfang/
LOCATION:Deutsche Parlamentarische Gesellschaft\, Friedrich-Ebert-Platz 2\, Berlin\, 10117
CATEGORIES:Empfang
END:VEVENT
BEGIN:VEVENT
DTSTART;TZID=Europe/Berlin:20200114T183000
DTEND;TZID=Europe/Berlin:20200114T183000
DTSTAMP:20260424T142907
CREATED:20200108T125548Z
LAST-MODIFIED:20200108T125604Z
UID:586-1579026600-1579026600@lausitz-brandenburg.de
SUMMARY:6. Gubener Unternehmertreffen
DESCRIPTION:Termin des Lausitzbeauftragten Dr. Klaus Freytag\n14.01.2020\, 18.30 Uhr\nOrt: Guben\, Gasstraße 4 (Ratssaal\, Raum 236)
URL:https://lausitz-brandenburg.de/event/6-gubener-unternehmertreffen/
LOCATION:Guben\, Forster Straße 58\, Guben\, Brandenburg\, 03172\, Deutschland
CATEGORIES:Informationsveranstaltung
END:VEVENT
BEGIN:VEVENT
DTSTART;TZID=Europe/Berlin:20200115T180000
DTEND;TZID=Europe/Berlin:20200115T180000
DTSTAMP:20260424T142907
CREATED:20200109T143038Z
LAST-MODIFIED:20200109T143038Z
UID:610-1579111200-1579111200@lausitz-brandenburg.de
SUMMARY:Neujahrsempfang Stadt Großräschen
DESCRIPTION:15.01.2020\, 18.00 Uhr\nOrt: Großräschen\, Seestraße 16\, Kurmärker-Saal
URL:https://lausitz-brandenburg.de/event/neujahrsempfang-stadt-grossraeschen/
LOCATION:Großräschen\, Seestraße 16\, Großräschen
CATEGORIES:Empfang
END:VEVENT
BEGIN:VEVENT
DTSTART;TZID=Europe/Berlin:20200116T000000
DTEND;TZID=Europe/Berlin:20200117T000000
DTSTAMP:20260424T142907
CREATED:20200108T130616Z
LAST-MODIFIED:20200109T143514Z
UID:590-1579132800-1579219200@lausitz-brandenburg.de
SUMMARY:Klausurtagung der Wirtschaftsregion Lausitz
DESCRIPTION:16.01./17.01.2020\nOrt: Lindner Congress Hotel\, Cottbus
URL:https://lausitz-brandenburg.de/event/klausurtagung-der-wirtschaftsregion-lausitz/
CATEGORIES:Tagung
END:VEVENT
BEGIN:VEVENT
DTSTART;TZID=Europe/Berlin:20200121T120000
DTEND;TZID=Europe/Berlin:20200121T120000
DTSTAMP:20260424T142907
CREATED:20200108T131351Z
LAST-MODIFIED:20200108T131351Z
UID:592-1579608000-1579608000@lausitz-brandenburg.de
SUMMARY:Dialog „Just Transition in der Lausitz und Nordengland“
DESCRIPTION:21.01.2020\, 12.00 Uhr\nDialog „Just Transition in der Lausitz und Nordengland“ auf Einladung der Staatskanzlei und der Britischen Botschaft Berlin\nOrt: Großenhainer Bahnhof\, Güterzufuhrstraße 7\, 03046 Cottbus
URL:https://lausitz-brandenburg.de/event/dialog-just-transition-in-der-lausitz-und-nordengland/
LOCATION:Großenhainer Bahnhof\, Güterzufuhrstraße 7\, Cottbus\, 03046
CATEGORIES:Informationsveranstaltung
END:VEVENT
BEGIN:VEVENT
DTSTART;TZID=Europe/Berlin:20200128T090000
DTEND;TZID=Europe/Berlin:20200128T090000
DTSTAMP:20260424T142907
CREATED:20200109T143349Z
LAST-MODIFIED:20200109T143349Z
UID:615-1580202000-1580202000@lausitz-brandenburg.de
SUMMARY:KBU – KOLLOQUIUM ZU WIRTSCHAFT UND UMWELTRECHT „Klimaschutz durch Energiewende“
DESCRIPTION:28.01.2020\, 9.00 Uhr 20.\nOrt: Melatener Straße 31\, 52074 Aachen
URL:https://lausitz-brandenburg.de/event/kbu-kolloquium-zu-wirtschaft-und-umweltrecht-klimaschutz-durch-energiewende/
LOCATION:Achen\, Melatener Straße 31\, Achen\, 52074
CATEGORIES:Sonstiges
END:VEVENT
BEGIN:VEVENT
DTSTART;TZID=Europe/Berlin:20200129T160000
DTEND;TZID=Europe/Berlin:20200129T160000
DTSTAMP:20260424T142907
CREATED:20200108T131627Z
LAST-MODIFIED:20200108T131642Z
UID:598-1580313600-1580313600@lausitz-brandenburg.de
SUMMARY:Kamingespräch mit kommunalen Vertretern der Netzregion Brandenburg der EnviaM
DESCRIPTION:Termin des Lausitzbeauftragten Dr. Klaus Freytag\n29.01.2020\, 16.00 Uhr\nOrt: Seehotel Großräschen\, Seestraße 88\, 01983 Großräschen
URL:https://lausitz-brandenburg.de/event/kamingespraech-mit-kommunalen-vertretern-der-netzregion-brandenburg-der-enviam/
LOCATION:Seehotel Großräschen\, Seestraße 88\, Großräschen\, 01983
CATEGORIES:Gespräch
END:VEVENT
BEGIN:VEVENT
DTSTART;TZID=Europe/Berlin:20200130T131500
DTEND;TZID=Europe/Berlin:20200130T131500
DTSTAMP:20260424T142907
CREATED:20200108T131839Z
LAST-MODIFIED:20200108T131839Z
UID:601-1580390100-1580390100@lausitz-brandenburg.de
SUMMARY:Akademievorträge 2020 des SeeCampus Niederlausitz zum Thema "Strukturentwicklung Lausitz"
DESCRIPTION:Termin des Lausitzbeauftragten Dr. Klaus Freytag\n30.01.2020\, 13.15 Uhr\nAkademievorträge 2020 des SeeCampus Niederlausitz zum Thema „Strukturentwicklung Lausitz“\nOrt: SeeCampus Niederlausitz\, Schwarzheide
URL:https://lausitz-brandenburg.de/event/akademievortraege-2020-des-seecampus-niederlausitz-zum-thema-strukturentwicklung-lausitz/
LOCATION:SeeCampus Niederlausitz\, Lauchhammerstraße 33\, Schwarzheide\, 01987
CATEGORIES:Informationsveranstaltung
END:VEVENT
END:VCALENDAR